BEGIN:VCALENDAR
VERSION:2.0
PRODID:-//Naturocoach, naturopathie, olfactothérapie - ECPv6.15.20//NONSGML v1.0//EN
CALSCALE:GREGORIAN
METHOD:PUBLISH
X-ORIGINAL-URL:https://www.naturocoach.fr
X-WR-CALDESC:Évènements pour Naturocoach, naturopathie, olfactothérapie
REFRESH-INTERVAL;VALUE=DURATION:PT1H
X-Robots-Tag:noindex
X-PUBLISHED-TTL:PT1H
BEGIN:VTIMEZONE
TZID:UTC
BEGIN:STANDARD
TZOFFSETFROM:+0000
TZOFFSETTO:+0000
TZNAME:UTC
DTSTART:20230101T000000
END:STANDARD
END:VTIMEZONE
BEGIN:VEVENT
DTSTART;TZID=UTC:20240204T140000
DTEND;TZID=UTC:20240204T163000
DTSTAMP:20260421T232812
CREATED:20240126T130503Z
LAST-MODIFIED:20240201T170401Z
UID:2494-1707055200-1707064200@www.naturocoach.fr
SUMMARY:Cercle de femmes level 2024 / Imbolc
DESCRIPTION: Naturopathe et olfactothérapeute\, je facilite depuis maintenant quelques années des cercles de femmes mêlant différentes thématiques et anciens rites liés aux saisons et à la nature\, en y apportant mes outils précieux d’accompagnante de l’humain.\n\nLes cercles de femmes relèvent de traditions ancestrales\, permettant un cadre sécurisant et confortable pour se déposer et accueillir la parole de l’autre en toute bienveillance\nIls sont une occasion précieuse de se réunir dans la sororité pour échanger\, libérer la parole\, apprendre à écouter ensemble sans jugement\, se faire miroir parfois… évoluer et grandir au fil des saisons.\nEn renouant avec les rituels et le cycle des saisons\, ils nous permettent de nous ancrer puissamment au présent de nos vies\, en pleine conscience de la magie des différents temps de l’année \n\n Un temps hors du temps… pour retrouver le contact avec notre part féminine dans un monde profondément yang\, à l’écoute les unes des autres et de notre voix intérieure.\nUn espace pour évoluer au rythme de la nature et de rituels saisonniers\, pour nous reconnecter\, quel que soit notre âge et notre quotidien\, à cette part de nous\, plus sauvage\, authentique\, intuitive\, créative…\n\nJe compose ces cercles en harmonie avec l’énergie des saisons et du groupe\, y ajoutant mes outils d’accompagnante de santé naturelle et psycho-émotionnelle pour favoriser le partage\, la libération personnelle et une vraie évolution de groupe dans le respect d’un cadre thérapeutique et sécure.\n Le dimanche 5 février\, je vous propose de nous retrouver à mon cabinet de Chambéry en un nouveau cercle de femmes pour Imbolc\, qui symbolise le début de l’année celtique et du retour à la lumière\, entre le solstice d’hiver et l’équinoxe de printemps.\n\nAu programme :\ncercles de paroles en lien à différents thèmes et partages libres\nméditation guidée olfactive\npause gourmande pour l’occasion de la chandeleur !\n\n Durée 2h à 3h selon les temps de partage\n Participation 35€\n Inscription SMS/WhatsApp au 06 49 37 86 00. Notre groupe est constitué mais on peut encore accueillir avec plaisir 1 ou 2 personnes \nA très vite pour ce temps de rencontre et de partage !
URL:https://www.naturocoach.fr/event/cercle-de-femmes-dimbolc-naitre-a-2024/
LOCATION:Mon cabinet\, 1 rue Salteur\, Chambéry\, 73000\, France
CATEGORIES:cercle de femmes,Naturopathie
ATTACH;FMTTYPE=image/jpeg:https://www.naturocoach.fr/wp-content/uploads/2024/01/308056121_628405375586574_5353921692377853484_n.jpg
ORGANIZER;CN="Nad%C3%A8ge Fognini":MAILTO:nadege@naturocoach.fr
END:VEVENT
END:VCALENDAR