BEGIN:VCALENDAR
VERSION:2.0
PRODID:-//Naturocoach, naturopathie, olfactothérapie - ECPv6.15.20//NONSGML v1.0//EN
CALSCALE:GREGORIAN
METHOD:PUBLISH
X-ORIGINAL-URL:https://www.naturocoach.fr
X-WR-CALDESC:Évènements pour Naturocoach, naturopathie, olfactothérapie
REFRESH-INTERVAL;VALUE=DURATION:PT1H
X-Robots-Tag:noindex
X-PUBLISHED-TTL:PT1H
BEGIN:VTIMEZONE
TZID:UTC
BEGIN:STANDARD
TZOFFSETFROM:+0000
TZOFFSETTO:+0000
TZNAME:UTC
DTSTART:20220101T000000
END:STANDARD
END:VTIMEZONE
BEGIN:VEVENT
DTSTART;TZID=UTC:20231029T170000
DTEND;TZID=UTC:20231029T200000
DTSTAMP:20260422T061733
CREATED:20231020T142238Z
LAST-MODIFIED:20231020T142238Z
UID:2180-1698598800-1698609600@www.naturocoach.fr
SUMMARY:Cercle de femmes de Samhain / Renaissance au féminin
DESCRIPTION:Pour la soirée de Samhain\, je vous propose de nous réunir dans l’échange et la sororité\, le dimanche 29 octobre 2023 à 17h.\nPour cette tradition gaélique importante dans le cycle des saisons\, ce cercle de femmes aura lieu à St Cassin\, aux portes de la Chartreuse… et à seulement 10 minutes en voiture du centre de Chambéry ! (j’organise un groupe Whats App pour les participantes qui souhaitent covoiturer et pour échanger des infos).\n Cette période de passage à la saison plus sombre correspond aussi à la Toussaint\, à Halloween\, où la coutume est d’avoir une pensée pour nos chers disparus.\nL’heure\, peut être\, de rendre hommage à nos héritages\, nos lignées\, nous libérer aussi de certaines mémoires…\nEt inviter une nouvelle ère dans nos vies en accueillant symboliquement de nouvelles parts de nous prêtes à naitre !\n\nChaque cercle est différent\, en fonction de vos partages et mon accompagnement au fil des saisons. Le cercle dure environ 2 à 3h\, selon les temps d’échange.\nDifférents temps en lien avec le thème ponctueront ce cercle pour nous permettre de ritualiser au mieux ce passage de l’année\, avec également une méditation olfactive guidée.\n\n C’est avant tout un temps de partage et d’écoute bienveillante dans la sororité. Un espace sécure où déposer sa parole\, selon notre vécu et ce que l’on souhaite partager.\nUn temps pour vous.\n\nJe vous réserve une place sur demande par SMS/WhatsApp d’inscription au 06 49 37 86 00. Il reste quelques places !\n Participation 30€\nRetrouvez mon article complet sur les cercles de femmes sur mon site naturocoach.fr : https://naturocoach.fr/cercle-femme/\nN’hésitez pas à partager l’info si vous pensez qu’elle peut intéresser l’une de vos connaissances.\n\nA très vite pour ce temps de rencontre et de partage !
URL:https://www.naturocoach.fr/event/cercle-de-femmes-de-samhain-renaissance-au-feminin/
LOCATION:St Cassin (10 min de Chambéry)
CATEGORIES:cercle de femmes,Naturopathie
ATTACH;FMTTYPE=image/png:https://www.naturocoach.fr/wp-content/uploads/2023/10/Accueillir-Automne-Instagram-Publication-5.png
ORGANIZER;CN="Nad%C3%A8ge Fognini":MAILTO:nadege@naturocoach.fr
END:VEVENT
END:VCALENDAR