BEGIN:VCALENDAR
VERSION:2.0
PRODID:-//Naturocoach, naturopathie, olfactothérapie - ECPv6.15.20//NONSGML v1.0//EN
CALSCALE:GREGORIAN
METHOD:PUBLISH
X-ORIGINAL-URL:https://www.naturocoach.fr
X-WR-CALDESC:Évènements pour Naturocoach, naturopathie, olfactothérapie
REFRESH-INTERVAL;VALUE=DURATION:PT1H
X-Robots-Tag:noindex
X-PUBLISHED-TTL:PT1H
BEGIN:VTIMEZONE
TZID:UTC
BEGIN:STANDARD
TZOFFSETFROM:+0000
TZOFFSETTO:+0000
TZNAME:UTC
DTSTART:20220101T000000
END:STANDARD
END:VTIMEZONE
BEGIN:VEVENT
DTSTART;TZID=UTC:20230921T193000
DTEND;TZID=UTC:20230921T220000
DTSTAMP:20260422T074503
CREATED:20230909T063515Z
LAST-MODIFIED:20230909T063719Z
UID:2159-1695324600-1695333600@www.naturocoach.fr
SUMMARY:Cercle de femmes automnal + création de votre Vision board
DESCRIPTION: A l’occasion de l’équinoxe d’automne\, le 21 septembre au soir à Chambéry\, je vous convie à un nouveau cercle de femmes\, pour échanger en toute liberté et sororité.\n\nPour clôturer cette saison d’été et aborder les envies et projets de la période à venir\, je vous proposerai également un atelier de création de votre « vision board ».\n Il s’agit d’une représentation visuelle sous forme de collage\, de ce que l’on souhaite manifester dans sa vie\, dans le ou les domaines que l’on désire !\n Le vision board est un puissant outil de visualisation pour ancrer dans la matière et de façon créative ses envies\, projets\, rêves…\nNul besoin de talent particulier\, l’idée est la spontanéité avec les éléments présents sur place\, images\, mots découpés\, etc ! (et éventuellement ceux que vous souhaitez apporter car ils vous inspirent au quotidien).\nJe vous guiderai bien évidemment dans cette aventure et vous pouvez nous rejoindre\, même si vous n’avez jamais participé aux cercles précédents (on a hâte de vous rencontrer !)\n\n La soirée aura lieu à mon cabinet à Chambéry\, qui est un espace équipé (et où vous attendront des boissons de saison) mais vous pouvez\, bien sûr\, apporter votre coussin/plaid préféré pour + de confort pour celles qui préfèrent\n\n Le cercle dure environ 2 à 3h\, selon les temps d’échange\n\n Le nombre de participantes étant limité\, je vous invite à réserver rapidement votre place si vous souhaitez nous rejoindre\npar message ou whatsapp\, au 06.49.37.8.00\n\n Participation pour l’animation de l’atelier\, la facilitation du cercle\, le matériel\, le lieu qui nous accueille : 30€\n\n J’ai créé un groupe what’s app dédié aux cercles de femmes que je vous inviterai à rejoindre suite à votre réservation\, quelques jours avant le cercle.\nJ’y ajoute des infos au besoin\, selon les cercles\, et il reste à présent ouvert le reste du temps pour s’échanger des mots doux et de belles pensées\, des idées de sortie…\n\nRetrouvez mon article complet sur les cercles de femmes sur mon site naturocoach.fr : https://naturocoach.fr/cercle-femme/\n\nN’hésitez pas à partager l’info si vous pensez qu’elle peut intéresser l’une de vos connaissances.\n\nA très vite pour ce temps de rencontre\, de partage et de création ! 
URL:https://www.naturocoach.fr/event/cercle-femmes-automne-vision-board/
LOCATION:Mon cabinet\, 1 rue Salteur\, Chambéry\, 73000\, France
CATEGORIES:cercle de femmes,Naturopathie
ATTACH;FMTTYPE=image/png:https://www.naturocoach.fr/wp-content/uploads/2023/09/www.reallygreatsite.com-1.png
ORGANIZER;CN="Nad%C3%A8ge Fognini":MAILTO:nadege@naturocoach.fr
END:VEVENT
END:VCALENDAR