BEGIN:VCALENDAR
VERSION:2.0
PRODID:-//Naturocoach, naturopathie, olfactothérapie - ECPv6.15.20//NONSGML v1.0//EN
CALSCALE:GREGORIAN
METHOD:PUBLISH
X-ORIGINAL-URL:https://www.naturocoach.fr
X-WR-CALDESC:Évènements pour Naturocoach, naturopathie, olfactothérapie
REFRESH-INTERVAL;VALUE=DURATION:PT1H
X-Robots-Tag:noindex
X-PUBLISHED-TTL:PT1H
BEGIN:VTIMEZONE
TZID:UTC
BEGIN:STANDARD
TZOFFSETFROM:+0000
TZOFFSETTO:+0000
TZNAME:UTC
DTSTART:20220101T000000
END:STANDARD
END:VTIMEZONE
BEGIN:VEVENT
DTSTART;TZID=UTC:20230624T190000
DTEND;TZID=UTC:20230624T213000
DTSTAMP:20260422T130712
CREATED:20230608T130948Z
LAST-MODIFIED:20230608T131047Z
UID:2053-1687633200-1687642200@www.naturocoach.fr
SUMMARY:Cercle de femmes du Solstice d'été
DESCRIPTION:Litha marque la célébration des jours les plus longs de l’année : le Solstice d’été !\n\nJe vous propose de fêter ce temps de l’année en cercle de femmes\, à St Cassin\, aux portes de la Chartreuse et à seulement 10min de Chambéry!\n\n Je vous attends le Samedi 24 juin à 19h\, pour nous permettre de partager ensuite un repas autour du feu si vous le souhaitez (c’est aussi le WE de la St Jean) et si la météo le permet.\n\nNaturopathe\, j’aime animer ces cercles en fonction des temps de l’année et ce qui vibre au rythme des saisons.\n\nAu programme de mes cercles de femmes : cercles de parole\, rituels nature\, tambour\, olfactothérapie\, méditation\, mantras… selon la période. Chaque cercle est différent !\n\nC’est avant tout un espace de rencontre et d’écoute bienveillante dans la sororité.\nUn temps pour vous !\n\nLe cercle dure environ 3h\, selon les échanges\, et si nous allons faire un rituel en nature pour célébrer cette belle saison (si la météo nous le permet).\n\nLe nombre de participantes est limité\, je vous invite donc à réserver rapidement votre place si vous souhaitez nous rejoindre !\nhttps://www.billetweb.fr/cercle-de-femmes-du-solstice-dete\nParticipation : 30€\n\nJ’ai créé un groupe what’s app dédié aux cercles de femmes qui vous permettra de vous organiser si vous souhaitez covoiturer.\nJ’y ajoute des infos au besoin\, selon les cercles\, et il reste à présent ouvert le reste du temps pour s’échanger des mots doux et de belles pensées\, des idées de sortie (je vous ajoute au groupe entre la validation de votre inscription et le jour du cercle).\n\nRetrouvez mon article complet sur les cercles de femmes sur mon site naturocoach : https://naturocoach.fr/cercle-femme/\n\nAu plaisir de vous revoir bientôt ou vous rencontrer ! 
URL:https://www.naturocoach.fr/event/cercle-de-femmes-solstice-ete/
LOCATION:St Cassin (10 min de Chambéry)
CATEGORIES:cercle de femmes,Naturopathie
ATTACH;FMTTYPE=image/jpeg:https://www.naturocoach.fr/wp-content/uploads/2023/02/IMG_20220426_174320-scaled.jpg
ORGANIZER;CN="Nad%C3%A8ge Fognini":MAILTO:nadege@naturocoach.fr
END:VEVENT
END:VCALENDAR