BEGIN:VCALENDAR
VERSION:2.0
PRODID:-//Naturocoach, naturopathie, olfactothérapie - ECPv6.15.20//NONSGML v1.0//EN
CALSCALE:GREGORIAN
METHOD:PUBLISH
X-WR-CALNAME:Naturocoach, naturopathie, olfactothérapie
X-ORIGINAL-URL:https://www.naturocoach.fr
X-WR-CALDESC:Évènements pour Naturocoach, naturopathie, olfactothérapie
REFRESH-INTERVAL;VALUE=DURATION:PT1H
X-Robots-Tag:noindex
X-PUBLISHED-TTL:PT1H
BEGIN:VTIMEZONE
TZID:UTC
BEGIN:STANDARD
TZOFFSETFROM:+0000
TZOFFSETTO:+0000
TZNAME:UTC
DTSTART:20220101T000000
END:STANDARD
END:VTIMEZONE
BEGIN:VEVENT
DTSTART;TZID=UTC:20230401T100000
DTEND;TZID=UTC:20230401T133000
DTSTAMP:20260424T122410
CREATED:20230307T122910Z
LAST-MODIFIED:20230321T095858Z
UID:1978-1680343200-1680355800@www.naturocoach.fr
SUMMARY:Stage du printemps en naturopathie
DESCRIPTION:Le samedi 1er avril\, je vous accueille dans un tout nouveau cocon de bien-être à Saint Cassin\, pour célébrer l’arrivée du printemps en pleine santé\, grâce à la naturopathie ! Différents temps de transmission\, ateliers pratiques sont au programme : \n\nJe vous proposerai une conférence au sujet de l’alimentation santé\, au cours de laquelle nous prendrons le temps d’échanger.\n\n  \n\nElle sera suivie d’un atelier dédié à la préparation d’un apéro naturo\, que nous aurons le plaisir de déguster ensemble\n\n  \n\nCes temps seront ponctués de conseils de santé naturelle pour préparer au mieux cette saison de printemps qui s’annonce !\n\n  \n\nSi la météo nous le permet\, nous terminerons ce moment ensemble par un bain de forêt méditatif dans la nature toute proche\, à l’écoute de nos sens\, notre respiration\, en pleine conscience… pour accueillir cette nouvelle saison !\n\n  \nL’horaire final en début d’après-midi est légèrement approximatif… en fonction des temps d’échange ! \nL’inscription est nécessaire\, pour privilégier un petit groupe. \nTarif : 60€ tout compris\nBilletterie en ligne: https://www.billetweb.fr/latelier-du-printemps-en-naturopathie \n  \nAu plaisir de vous revoir ou de vous rencontrer ! \n  \nPrenez soin de vous\, \nNadège Fognini / naturocoach.fr
URL:https://www.naturocoach.fr/event/atelier-printemps-naturopathie/
LOCATION:St Cassin (10 min de Chambéry)
CATEGORIES:Naturopathie
ATTACH;FMTTYPE=image/jpeg:https://www.naturocoach.fr/wp-content/uploads/2023/03/Affiche-stage-printemps.jpg
ORGANIZER;CN="Nad%C3%A8ge Fognini":MAILTO:nadege@naturocoach.fr
END:VEVENT
END:VCALENDAR