BEGIN:VCALENDAR
VERSION:2.0
PRODID:-//Naturocoach, naturopathie, olfactothérapie - ECPv6.15.20//NONSGML v1.0//EN
CALSCALE:GREGORIAN
METHOD:PUBLISH
X-WR-CALNAME:Naturocoach, naturopathie, olfactothérapie
X-ORIGINAL-URL:https://www.naturocoach.fr
X-WR-CALDESC:Évènements pour Naturocoach, naturopathie, olfactothérapie
REFRESH-INTERVAL;VALUE=DURATION:PT1H
X-Robots-Tag:noindex
X-PUBLISHED-TTL:PT1H
BEGIN:VTIMEZONE
TZID:UTC
BEGIN:STANDARD
TZOFFSETFROM:+0000
TZOFFSETTO:+0000
TZNAME:UTC
DTSTART:20220101T000000
END:STANDARD
END:VTIMEZONE
BEGIN:VEVENT
DTSTART;TZID=UTC:20230319T140000
DTEND;TZID=UTC:20230319T170000
DTSTAMP:20260424T141858
CREATED:20230220T170453Z
LAST-MODIFIED:20230310T113033Z
UID:1966-1679234400-1679245200@www.naturocoach.fr
SUMMARY:Cercle de femmes du printemps en montagne !
DESCRIPTION:Dans l’air vibrera bientôt un parfum de renouveau et on peut en sentir les prémices…\n\n\n\nIl sera bientôt l’heure du Cercle de femmes du printemps et j’ai l’immense joie de vous annoncer qu’il aura lieu cette année à St Cassin\, dans un cadre magnifique de montagne\, aux portes de la Chartreuse et à seulement 10min de Chambéry !\n\n\n\n\nJ’ai créé un groupe what’s app dédié aux cercles de femmes qui vous permettra de vous organiser si vous souhaitez covoiturer\, j’y ajoute des infos si besoin et il reste à présent ouvert le reste du temps pour s’échanger des mots doux et de belles pensées (je vous ajoute au groupe entre la validation de votre inscription et le cercle).\n\n\n\n\nLe nombre de participantes est limité et j’ai déjà commencé à prendre des inscriptions\, je vous invite donc à réserver rapidement votre place si vous souhaitez nous rejoindre !\n\n\n\n\nNous accueillerons le printemps comme il se doit\, entre cercles de parole\, rituels nature\, tambours\, méditation et autres surprises… Chaque cercle est différent ! Naturopathe\, j’aime animer mes cercles en fonction des temps de l’année et ce qui vibre au rythme des saisons\n\n\n\n\nC’est avant tout un temps de rencontre et d’écoute bienveillante dans la sororité.\n\n\n\nRDV dimanche 19 mars après-midi\, à 14h\n\nLe cercle dure 2 à 3h selon les temps d’échange !\n\n\n\n\nParticipation 30€ pour la préparation de l’animation des différents temps de l’après-midi\, la facilitation du cercle\, et pour faire vivre ce nouveau lieu qui nous accueille.\nBilletterie en ligne : https://www.billetweb.fr/cercle-de-femmes-du-printemps-en-montagne\nPour en savoir +\, voici un article de mon blog à propos des cercles de femmes : https://naturocoach.fr/cercle-femme/\n\n\n\n\nAu plaisir de vous revoir ou vous rencontrer pour célébrer ensemble ce nouveau printemps !
URL:https://www.naturocoach.fr/event/cercle-de-femmes-printemps-2023/
LOCATION:St Cassin (10 min de Chambéry)
CATEGORIES:cercle de femmes,Naturopathie
ATTACH;FMTTYPE=image/png:https://www.naturocoach.fr/wp-content/uploads/2023/02/Cercle-solstice-dete-1.png
ORGANIZER;CN="Nad%C3%A8ge Fognini":MAILTO:nadege@naturocoach.fr
END:VEVENT
END:VCALENDAR