BEGIN:VCALENDAR
VERSION:2.0
PRODID:-//Naturocoach, naturopathie, olfactothérapie - ECPv6.15.20//NONSGML v1.0//EN
CALSCALE:GREGORIAN
METHOD:PUBLISH
X-WR-CALNAME:Naturocoach, naturopathie, olfactothérapie
X-ORIGINAL-URL:https://www.naturocoach.fr
X-WR-CALDESC:Évènements pour Naturocoach, naturopathie, olfactothérapie
REFRESH-INTERVAL;VALUE=DURATION:PT1H
X-Robots-Tag:noindex
X-PUBLISHED-TTL:PT1H
BEGIN:VTIMEZONE
TZID:UTC
BEGIN:STANDARD
TZOFFSETFROM:+0000
TZOFFSETTO:+0000
TZNAME:UTC
DTSTART:20220101T000000
END:STANDARD
END:VTIMEZONE
BEGIN:VEVENT
DTSTART;TZID=UTC:20230213T183000
DTEND;TZID=UTC:20230213T203000
DTSTAMP:20260424T160911
CREATED:20230203T130333Z
LAST-MODIFIED:20230209T163456Z
UID:1593-1676313000-1676320200@www.naturocoach.fr
SUMMARY:Atelier cosmétique naturelle : confection de mes cadeaux de Saint Valentin !
DESCRIPTION:Qui a dit que la St Valentin devait forcément rimer avec cadeau conventionnel hors de prix ? Ou qu’il fallait nécessairement être en couple pour s’accorder un temps pour soi ?\n\n A cette occasion\, le lundi 13 février au soir\, je vous partage mes connaissances en naturopathie et cosmétique naturelle\, à travers un atelier dédié à la confection de vos produits de bien-être !\nPour offrir ou pour se chouchouter soi-même\, c’est l’occasion rêvée de se faire plaisir et de faire plaisir en apprenant ensemble\, en petit groupe.\n\n– L’atelier commencera par un temps de conférence-causerie sur les besoins de la peau\n– puis nous réaliserons ensemble votre sel de bain fleuri et votre huile de massage naturelle.\n Vos produits sont à base de matières premières bio\, dans de jolis contenants réutilisables.\nRecettes simples testées et reproductibles facilement à la maison\, pour répéter les moments de douceur !\n Vous pouvez aussi décider d’offrir cet atelier sous forme de bon cadeau en me contactant rapidement à nadege@naturocoach.fr\n\n Le RDV : Lundi 13 février à 18h30 au cabinet\, 1 rue Salteur à Chambéry\n Durée : environ 2h\nParticipation : 40€/personne\, matériel et ingrédients compris\n\nInscription nécessaire par message au 06.49.37.86.00\nFaites vite\, les places sont limitées !\n\nhttps://fb.me/e/4bsDNW1ua
URL:https://www.naturocoach.fr/event/atelier-cosmetique-saint-valentin/
LOCATION:Mon cabinet\, 1 rue Salteur\, Chambéry\, 73000\, France
CATEGORIES:Naturopathie,slow cosmétique
ATTACH;FMTTYPE=image/png:https://www.naturocoach.fr/wp-content/uploads/2023/02/Atelier-cosmetique-naturelle.png
ORGANIZER;CN="Nad%C3%A8ge Fognini":MAILTO:nadege@naturocoach.fr
END:VEVENT
END:VCALENDAR