BEGIN:VCALENDAR
VERSION:2.0
PRODID:-//Naturocoach, naturopathie, olfactothérapie - ECPv6.15.20//NONSGML v1.0//EN
CALSCALE:GREGORIAN
METHOD:PUBLISH
X-ORIGINAL-URL:https://www.naturocoach.fr
X-WR-CALDESC:Évènements pour Naturocoach, naturopathie, olfactothérapie
REFRESH-INTERVAL;VALUE=DURATION:PT1H
X-Robots-Tag:noindex
X-PUBLISHED-TTL:PT1H
BEGIN:VTIMEZONE
TZID:UTC
BEGIN:STANDARD
TZOFFSETFROM:+0000
TZOFFSETTO:+0000
TZNAME:UTC
DTSTART:20220101T000000
END:STANDARD
END:VTIMEZONE
BEGIN:VEVENT
DTSTART;TZID=UTC:20230711T190000
DTEND;TZID=UTC:20230711T203000
DTSTAMP:20260422T094235
CREATED:20230630T080501Z
LAST-MODIFIED:20230710T074927Z
UID:2143-1689102000-1689107400@www.naturocoach.fr
SUMMARY:Atelier au Bruit qui Court à Chambéry : Trousse santé de l'été + Cosmétique naturelle anti-moustiques
DESCRIPTION:Atelier « Trousse santé naturelle de l’été + Cosmétique : votre soin après soleil anti-moustiques ! »\nMardi 11 juillet à 19h \nApprenez à composer votre trousse de santé/beauté naturelle estivale\, selon vos besoins et pour répondre aux différentes problématiques liées à cette période\, avec Nadège Fognini\, naturopathe sur Chambéry. \nDans un deuxième temps\, nous confectionnerons ensemble votre huile après soleil anti-moustiques\, pour accompagner vos soirées d’été ! \nJe vous conseille de réserver\, les places sont limitées pour cet atelier : au 06 49 37 86 00 \nPrix libre en conscience (indicatif à partir de 25€)\nRestauration possible sur place dès 19h\, cuisine du monde\, direction Chypre !
URL:https://www.naturocoach.fr/event/atelier-au-bruit-qui-court-a-chambery-trousse-sante-de-lete-cosmetique-naturelle-anti-moustiques/
LOCATION:Bruit qui Court\, 87 rue Ste Rose\, Chambéry\, 73000
CATEGORIES:aromathérapie,atelier,Naturopathie,slow cosmétique
ATTACH;FMTTYPE=image/jpeg:https://www.naturocoach.fr/wp-content/uploads/2022/08/IMG_20220708_200808-scaled.jpg
ORGANIZER;CN="Nad%C3%A8ge Fognini":MAILTO:nadege@naturocoach.fr
END:VEVENT
BEGIN:VEVENT
DTSTART;TZID=UTC:20230730T170000
DTEND;TZID=UTC:20230730T200000
DTSTAMP:20260422T094235
CREATED:20230630T131553Z
LAST-MODIFIED:20230630T131629Z
UID:2146-1690736400-1690747200@www.naturocoach.fr
SUMMARY:Cercle de femmes d'été
DESCRIPTION: Je vous propose de nous retrouver en un nouveau cercle de femmes d’été le dimanche 30 juillet à 17h\, à St Cassin (aux portes de la Chartreuse et à seulement 10min de Chambéry!)\n\n Naturopathe\, j’aime animer ces cercles en fonction des temps de l’année et ce qui vibre au rythme des saisons. Chaque cercle est différent !\n\nAu programme de ce cercle d’été (que je prévois le + possible en nature si la météo nous le permet) : cercles de parole\, rituels nature de saison\, méditation du cœur\, tambour\, mantras… et nous pourrons terminer par un petit apéritif ensemble si vous le souhaitez !\nC’est avant tout un espace de rencontre et d’écoute bienveillante dans la sororité.\nUn temps pour vous !\n\n Le cercle dure environ 2 à 3h\, selon les échanges !\n\n Le nombre de participantes est limité\, je vous invite donc à réserver rapidement votre place si vous souhaitez nous rejoindre\npar message : 06.49.37.8.00\nParticipation : 30€\n\nJ’ai créé un groupe what’s app dédié aux cercles de femmes qui vous permettra de vous organiser si vous souhaitez covoiturer.\nJ’y ajoute des infos au besoin\, selon les cercles\, et il reste à présent ouvert le reste du temps pour s’échanger des mots doux et de belles pensées\, des idées de sortie (je vous ajoute au groupe entre la validation de votre inscription et le jour du cercle).\n\n Retrouvez mon article complet sur les cercles de femmes sur mon site naturocoach.fr : https://naturocoach.fr/cercle-femme/\nAu plaisir de vous revoir bientôt ou de vous rencontrer !
URL:https://www.naturocoach.fr/event/cercle-de-femmes-dete/
LOCATION:St Cassin (10 min de Chambéry)
CATEGORIES:cercle de femmes,Naturopathie
ATTACH;FMTTYPE=image/jpeg:https://www.naturocoach.fr/wp-content/uploads/2023/06/shane-rounce-DNkoNXQti3c-unsplash-scaled.jpg
ORGANIZER;CN="Nad%C3%A8ge Fognini":MAILTO:nadege@naturocoach.fr
END:VEVENT
END:VCALENDAR